BEGIN:VCALENDAR
VERSION:2.0
PRODID:-//חוצות שפיים - ECPv6.3.5//NONSGML v1.0//EN
CALSCALE:GREGORIAN
METHOD:PUBLISH
X-ORIGINAL-URL:https://www.shfayimcenter.co.il
X-WR-CALDESC:Events for חוצות שפיים
REFRESH-INTERVAL;VALUE=DURATION:PT1H
X-Robots-Tag:noindex
X-PUBLISHED-TTL:PT1H
BEGIN:VTIMEZONE
TZID:UTC
BEGIN:STANDARD
TZOFFSETFROM:+0000
TZOFFSETTO:+0000
TZNAME:UTC
DTSTART:20210101T000000
END:STANDARD
END:VTIMEZONE
BEGIN:VEVENT
DTSTART;TZID=UTC:20210101T093000
DTEND;TZID=UTC:20210101T150000
DTSTAMP:20260424T232307
CREATED:20201215T103010Z
LAST-MODIFIED:20201216T133959Z
UID:11659-1609493400-1609513200@www.shfayimcenter.co.il
SUMMARY:יריד אוכל מוכן מבית NFK - ימי שישי במשק פיין
DESCRIPTION:כל יום שישי במשק פיין שפיים : יריד אוכל מוכן לשבת מבית נופר פדלון – NFK \nתפריט חלומי הכולל סלטים\, מטבלים\, דגים\, בשרים\, תוספות \nאופציות טבעוניות \nמאפייה וקינוחים \nועוד המון הפתעות! \nימי שישי במתחם המקורה של משק פיין החל מ09:30 בבוקר ועד 15:00 \n*שימו לב\nהכניסה למתחם בעטיית מסיכה בלבד\nהגבלת קונים בהתאם להנחיות התו הסגול\nלמען שמירה על בריואכם עמדות לרחיצת ידיים פזורות ברחבי המתחם \nשפע חניה וללא עלות\, כבר אמרנו? \nעוד סיבה טובה (או גדולה) להגיע לחוצות שפיים. \n*ימים ושעות הפעילויות עשויות להתעדכן מעת לעת. יש להתעדכן מול המתחם
URL:https://www.shfayimcenter.co.il/event/1-1-21/
ATTACH;FMTTYPE=image/jpeg:https://www.shfayimcenter.co.il/wp-content/uploads/2020/12/533_800_באנר-לאתר-יריד-האוכל-המוכן-בשישי2.jpg
END:VEVENT
BEGIN:VEVENT
DTSTART;TZID=UTC:20210108T093000
DTEND;TZID=UTC:20210108T150000
DTSTAMP:20260424T232307
CREATED:20201215T103212Z
LAST-MODIFIED:20201216T134405Z
UID:11661-1610098200-1610118000@www.shfayimcenter.co.il
SUMMARY:יריד אוכל מוכן מבית NFK - ימי שישי במשק פיין
DESCRIPTION:כל יום שישי במשק פיין שפיים : יריד אוכל מוכן לשבת מבית נופר פדלון – NFK \nתפריט חלומי הכולל סלטים\, מטבלים\, דגים\, בשרים\, תוספות \nאופציות טבעוניות \nמאפייה וקינוחים \nועוד המון הפתעות! \nימי שישי במתחם המקורה של משק פיין החל מ09:30 בבוקר ועד 15:00 \n*שימו לב\nהכניסה למתחם בעטיית מסיכה בלבד\nהגבלת קונים בהתאם להנחיות התו הסגול\nלמען שמירה על בריואכם עמדות לרחיצת ידיים פזורות ברחבי המתחם \nשפע חניה וללא עלות\, כבר אמרנו? \nעוד סיבה טובה (או גדולה) להגיע לחוצות שפיים. \n*ימים ושעות הפעילויות עשויות להתעדכן מעת לעת. יש להתעדכן מול המתחם
URL:https://www.shfayimcenter.co.il/event/8-1-21/
ATTACH;FMTTYPE=image/jpeg:https://www.shfayimcenter.co.il/wp-content/uploads/2020/12/533_800_באנר-לאתר-יריד-האוכל-המוכן-בשישי2-1.jpg
END:VEVENT
BEGIN:VEVENT
DTSTART;TZID=UTC:20210113T110000
DTEND;TZID=UTC:20210113T200000
DTSTAMP:20260424T232307
CREATED:20210114T104303Z
LAST-MODIFIED:20210114T104303Z
UID:11683-1610535600-1610568000@www.shfayimcenter.co.il
SUMMARY:חדש! הזמנת בשרים במעשנת של ניסן!
DESCRIPTION:חדש במעשנת של ניסן! הזמנת בשרים  עד הבית לסוף השבוע\n\n\nחדש במעשנת של ניסן שפיים! הזמנות בשרים לסוף השבוע. מינימיום 200 ש”ח להזמנה\, ניתן להזמין עד יום רבעי\n  \n\n\nעוד סיבה טובה (או גדולה) להגיע לחוצות שפיים. \n*ימים ושעות הפעילויות עשויות להתעדכן מעת לעת. יש להתעדכן מול המתחם
URL:https://www.shfayimcenter.co.il/event/maashenet-13-1-21/
ATTACH;FMTTYPE=image/jpeg:https://www.shfayimcenter.co.il/wp-content/uploads/2020/11/125957059_5403825952991484_2605012724622260123_n.jpg
END:VEVENT
BEGIN:VEVENT
DTSTART;TZID=UTC:20210115T093000
DTEND;TZID=UTC:20210115T150000
DTSTAMP:20260424T232307
CREATED:20201216T135233Z
LAST-MODIFIED:20201216T135233Z
UID:11670-1610703000-1610722800@www.shfayimcenter.co.il
SUMMARY:יריד אוכל מוכן מבית NFK - ימי שישי במשק פיין
DESCRIPTION:כל יום שישי במשק פיין שפיים : יריד אוכל מוכן לשבת מבית נופר פדלון – NFK \nתפריט חלומי הכולל סלטים\, מטבלים\, דגים\, בשרים\, תוספות \nאופציות טבעוניות \nמאפייה וקינוחים \nועוד המון הפתעות! \nימי שישי במתחם המקורה של משק פיין החל מ09:30 בבוקר ועד 15:00 \n*שימו לב\nהכניסה למתחם בעטיית מסיכה בלבד\nהגבלת קונים בהתאם להנחיות התו הסגול\nלמען שמירה על בריואכם עמדות לרחיצת ידיים פזורות ברחבי המתחם \nשפע חניה וללא עלות\, כבר אמרנו? \nעוד סיבה טובה (או גדולה) להגיע לחוצות שפיים. \n*ימים ושעות הפעילויות עשויות להתעדכן מעת לעת. יש להתעדכן מול המתחם
URL:https://www.shfayimcenter.co.il/event/15-1-21/
ATTACH;FMTTYPE=image/jpeg:https://www.shfayimcenter.co.il/wp-content/uploads/2020/12/533_800_באנר-לאתר-יריד-האוכל-המוכן-בשישי2-1.jpg
END:VEVENT
BEGIN:VEVENT
DTSTART;TZID=UTC:20210120T110000
DTEND;TZID=UTC:20210120T200000
DTSTAMP:20260424T232307
CREATED:20210114T104440Z
LAST-MODIFIED:20210114T104440Z
UID:11685-1611140400-1611172800@www.shfayimcenter.co.il
SUMMARY:חדש! הזמנת בשרים במעשנת של ניסן!
DESCRIPTION:חדש במעשנת של ניסן! הזמנת בשרים  עד הבית לסוף השבוע-\nניתן להזמין עד יום רבעי ליום שישי\n\n\nחדש במעשנת של ניסן שפיים! הזמנות בשרים לסוף השבוע. מינימיום 200 ש”ח להזמנה\, ניתן להזמין עד יום רבעי\n  \n\n\nעוד סיבה טובה (או גדולה) להגיע לחוצות שפיים. \n*ימים ושעות הפעילויות עשויות להתעדכן מעת לעת. יש להתעדכן מול המתחם
URL:https://www.shfayimcenter.co.il/event/maashenet-20-1-21/
ATTACH;FMTTYPE=image/jpeg:https://www.shfayimcenter.co.il/wp-content/uploads/2020/11/125957059_5403825952991484_2605012724622260123_n.jpg
END:VEVENT
BEGIN:VEVENT
DTSTART;TZID=UTC:20210122T093000
DTEND;TZID=UTC:20210122T150000
DTSTAMP:20260424T232307
CREATED:20201216T135443Z
LAST-MODIFIED:20201216T135443Z
UID:11672-1611307800-1611327600@www.shfayimcenter.co.il
SUMMARY:יריד אוכל מוכן מבית NFK - ימי שישי במשק פיין
DESCRIPTION:כל יום שישי במשק פיין שפיים : יריד אוכל מוכן לשבת מבית נופר פדלון – NFK \nתפריט חלומי הכולל סלטים\, מטבלים\, דגים\, בשרים\, תוספות \nאופציות טבעוניות \nמאפייה וקינוחים \nועוד המון הפתעות! \nימי שישי במתחם המקורה של משק פיין החל מ09:30 בבוקר ועד 15:00 \n*שימו לב\nהכניסה למתחם בעטיית מסיכה בלבד\nהגבלת קונים בהתאם להנחיות התו הסגול\nלמען שמירה על בריואכם עמדות לרחיצת ידיים פזורות ברחבי המתחם \nשפע חניה וללא עלות\, כבר אמרנו? \nעוד סיבה טובה (או גדולה) להגיע לחוצות שפיים. \n*ימים ושעות הפעילויות עשויות להתעדכן מעת לעת. יש להתעדכן מול המתחם
URL:https://www.shfayimcenter.co.il/event/22-1-21/
ATTACH;FMTTYPE=image/jpeg:https://www.shfayimcenter.co.il/wp-content/uploads/2020/12/533_800_באנר-לאתר-יריד-האוכל-המוכן-בשישי2-1.jpg
END:VEVENT
BEGIN:VEVENT
DTSTART;TZID=UTC:20210127T110000
DTEND;TZID=UTC:20210127T200000
DTSTAMP:20260424T232307
CREATED:20210114T104544Z
LAST-MODIFIED:20210114T104544Z
UID:11687-1611745200-1611777600@www.shfayimcenter.co.il
SUMMARY:חדש! הזמנת בשרים במעשנת של ניסן!
DESCRIPTION:חדש במעשנת של ניסן! הזמנת בשרים  עד הבית לסוף השבוע-\nניתן להזמין עד יום רבעי ליום שישי\n\n\nחדש במעשנת של ניסן שפיים! הזמנות בשרים לסוף השבוע. מינימיום 200 ש”ח להזמנה\, ניתן להזמין עד יום רבעי\n  \n\n\nעוד סיבה טובה (או גדולה) להגיע לחוצות שפיים. \n*ימים ושעות הפעילויות עשויות להתעדכן מעת לעת. יש להתעדכן מול המתחם
URL:https://www.shfayimcenter.co.il/event/maashenet-27-1-21/
ATTACH;FMTTYPE=image/jpeg:https://www.shfayimcenter.co.il/wp-content/uploads/2020/11/125957059_5403825952991484_2605012724622260123_n.jpg
END:VEVENT
BEGIN:VEVENT
DTSTART;TZID=UTC:20210129T093000
DTEND;TZID=UTC:20210129T150000
DTSTAMP:20260424T232307
CREATED:20201216T135640Z
LAST-MODIFIED:20201216T135640Z
UID:11674-1611912600-1611932400@www.shfayimcenter.co.il
SUMMARY:יריד אוכל מוכן מבית NFK - ימי שישי במשק פיין
DESCRIPTION:כל יום שישי במשק פיין שפיים : יריד אוכל מוכן לשבת מבית נופר פדלון – NFK \nתפריט חלומי הכולל סלטים\, מטבלים\, דגים\, בשרים\, תוספות \nאופציות טבעוניות \nמאפייה וקינוחים \nועוד המון הפתעות! \nימי שישי במתחם המקורה של משק פיין החל מ09:30 בבוקר ועד 15:00 \n*שימו לב\nהכניסה למתחם בעטיית מסיכה בלבד\nהגבלת קונים בהתאם להנחיות התו הסגול\nלמען שמירה על בריואכם עמדות לרחיצת ידיים פזורות ברחבי המתחם \nשפע חניה וללא עלות\, כבר אמרנו? \nעוד סיבה טובה (או גדולה) להגיע לחוצות שפיים. \n*ימים ושעות הפעילויות עשויות להתעדכן מעת לעת. יש להתעדכן מול המתחם
URL:https://www.shfayimcenter.co.il/event/29-1-21/
ATTACH;FMTTYPE=image/jpeg:https://www.shfayimcenter.co.il/wp-content/uploads/2020/12/533_800_באנר-לאתר-יריד-האוכל-המוכן-בשישי2-1.jpg
END:VEVENT
END:VCALENDAR