BEGIN:VCALENDAR
VERSION:2.0
PRODID:-//חוצות שפיים - ECPv4.6.18//NONSGML v1.0//EN
CALSCALE:GREGORIAN
METHOD:PUBLISH
X-WR-CALNAME:חוצות שפיים
X-ORIGINAL-URL:https://www.shfayimcenter.co.il
X-WR-CALDESC:Events for חוצות שפיים
BEGIN:VEVENT
DTSTART;TZID=UTC+0:20210327T093000
DTEND;TZID=UTC+0:20210328T150000
DTSTAMP:20210421T102216
CREATED:20210325T110720Z
LAST-MODIFIED:20210325T111332Z
UID:11768-1616837400-1616943600@www.shfayimcenter.co.il
SUMMARY:פסח שמח בחוצות שפיים! לשעות הפעילות
DESCRIPTION:חג אביב שמח בחוצות שפיים! \nעם שפע מבצעים והנחות בכל רשתות המתחם \nשעות הפעילות בחג : \nשבת ערב חג ראשון 27.3.21- 10:00-16:00 \nראשון חג הפסח 28.3.21 – 10:00-21:00 \n*שימו לב\nהכניסה למתחם בעטיית מסיכה בלבד\nהגבלת קונים בהתאם להנחיות התו הסגול\nלמען שמירה על בריואכם עמדות לרחיצת ידיים פזורות ברחבי המתחם \nשפע חניה וללא עלות\, כבר אמרנו? \nעוד סיבה טובה (או גדולה) להגיע לחוצות שפיים. \n*ימים ושעות הפעילויות עשויות להתעדכן מעת לעת. יש להתעדכן מול המתחם \n
URL:https://www.shfayimcenter.co.il/event/27-28-3-21/
ATTACH;FMTTYPE=image/jpeg:https://www.shfayimcenter.co.il/wp-content/uploads/2021/03/קאבר-לפייסבוק_ברכה-לפסח.jpg
END:VEVENT
BEGIN:VEVENT
DTSTART;TZID=UTC+0:20210402T093000
DTEND;TZID=UTC+0:20210403T210000
DTSTAMP:20210421T102216
CREATED:20210325T111146Z
LAST-MODIFIED:20210325T111146Z
UID:11770-1617355800-1617483600@www.shfayimcenter.co.il
SUMMARY:פסח שמח בחוצות שפיים! לשעות הפעילות
DESCRIPTION:חג אביב שמח בחוצות שפיים! \nעם שפע מבצעים והנחות בכל רשתות המתחם \nשעות הפעילות בחג שני : \nשישי 2.4 ערב חג שני 10:00-16:00 \nשבת 3.4 חג שני 10:00-21:00 \n*שימו לב\nהכניסה למתחם בעטיית מסיכה בלבד\nהגבלת קונים בהתאם להנחיות התו הסגול\nלמען שמירה על בריואכם עמדות לרחיצת ידיים פזורות ברחבי המתחם \nשפע חניה וללא עלות\, כבר אמרנו? \nעוד סיבה טובה (או גדולה) להגיע לחוצות שפיים. \n*ימים ושעות הפעילויות עשויות להתעדכן מעת לעת. יש להתעדכן מול המתחם \n
URL:https://www.shfayimcenter.co.il/event/2-3-4-21/
ATTACH;FMTTYPE=image/jpeg:https://www.shfayimcenter.co.il/wp-content/uploads/2021/03/קאבר-לפייסבוק_ברכה-לפסח.jpg
END:VEVENT
BEGIN:VEVENT
DTSTART;TZID=UTC+0:20210413T093000
DTEND;TZID=UTC+0:20210415T210000
DTSTAMP:20210421T102216
CREATED:20210413T084858Z
LAST-MODIFIED:20210413T084858Z
UID:11784-1618306200-1618520400@www.shfayimcenter.co.il
SUMMARY:שעות פעילות עדכניות במתחם : זיכרון ועצמאות
DESCRIPTION:ימי זיכרון ועצמאות בחוצות שפיים:\n מתייחדים עם זכר הנופלים . חוגגים את עצמאותה של המדינה \nיום שלישי 13.4 שעות פעילות המתחם : 10:00-18:00\nיום רבעי 14.4 : 09:00-21:00\nחמישי 15.4 יום העצמאות : פתוח במתכונת שבת 10:00-22:00 \n*בחוצות שפיים מקפידים על הנחיות תו סגול + תו ירוק:\nהכניסה למתחם בעטיית מסיכה בלבד\nהגבלת קונים בהתאם להנחיות התו הסגול\nישיבה במסעדות המתחם בהצגת תעודת תו ירוק בלבד\nלמען שמירה על בריואכם עמדות לרחיצת ידיים פזורות ברחבי המתחם \nשפע חניה וללא עלות\, כבר אמרנו? \nעוד סיבה טובה (או גדולה) להגיע לחוצות שפיים. \n*ימים ושעות הפעילויות עשויות להתעדכן מעת לעת. יש להתעדכן מול המתחם \n
URL:https://www.shfayimcenter.co.il/event/13-15-4/
ATTACH;FMTTYPE=image/jpeg:https://www.shfayimcenter.co.il/wp-content/uploads/2021/04/169994969_6064494756924597_4318753701910653481_n.jpg
END:VEVENT
END:VCALENDAR