BEGIN:VCALENDAR
VERSION:2.0
PRODID:-//חוצות שפיים - ECPv6.3.5//NONSGML v1.0//EN
CALSCALE:GREGORIAN
METHOD:PUBLISH
X-WR-CALNAME:חוצות שפיים
X-ORIGINAL-URL:https://www.shfayimcenter.co.il
X-WR-CALDESC:Events for חוצות שפיים
REFRESH-INTERVAL;VALUE=DURATION:PT1H
X-Robots-Tag:noindex
X-PUBLISHED-TTL:PT1H
BEGIN:VTIMEZONE
TZID:UTC
BEGIN:STANDARD
TZOFFSETFROM:+0000
TZOFFSETTO:+0000
TZNAME:UTC
DTSTART:20210101T000000
END:STANDARD
END:VTIMEZONE
BEGIN:VEVENT
DTSTART;TZID=UTC:20210129T093000
DTEND;TZID=UTC:20210129T150000
DTSTAMP:20260425T005809
CREATED:20201216T135640Z
LAST-MODIFIED:20201216T135640Z
UID:11674-1611912600-1611932400@www.shfayimcenter.co.il
SUMMARY:יריד אוכל מוכן מבית NFK - ימי שישי במשק פיין
DESCRIPTION:כל יום שישי במשק פיין שפיים : יריד אוכל מוכן לשבת מבית נופר פדלון – NFK \nתפריט חלומי הכולל סלטים\, מטבלים\, דגים\, בשרים\, תוספות \nאופציות טבעוניות \nמאפייה וקינוחים \nועוד המון הפתעות! \nימי שישי במתחם המקורה של משק פיין החל מ09:30 בבוקר ועד 15:00 \n*שימו לב\nהכניסה למתחם בעטיית מסיכה בלבד\nהגבלת קונים בהתאם להנחיות התו הסגול\nלמען שמירה על בריואכם עמדות לרחיצת ידיים פזורות ברחבי המתחם \nשפע חניה וללא עלות\, כבר אמרנו? \nעוד סיבה טובה (או גדולה) להגיע לחוצות שפיים. \n*ימים ושעות הפעילויות עשויות להתעדכן מעת לעת. יש להתעדכן מול המתחם
URL:https://www.shfayimcenter.co.il/event/29-1-21/
ATTACH;FMTTYPE=image/jpeg:https://www.shfayimcenter.co.il/wp-content/uploads/2020/12/533_800_באנר-לאתר-יריד-האוכל-המוכן-בשישי2-1.jpg
END:VEVENT
END:VCALENDAR