BEGIN:VCALENDAR
VERSION:2.0
PRODID:-//חוצות שפיים - ECPv6.3.5//NONSGML v1.0//EN
CALSCALE:GREGORIAN
METHOD:PUBLISH
X-ORIGINAL-URL:https://www.shfayimcenter.co.il
X-WR-CALDESC:Events for חוצות שפיים
REFRESH-INTERVAL;VALUE=DURATION:PT1H
X-Robots-Tag:noindex
X-PUBLISHED-TTL:PT1H
BEGIN:VTIMEZONE
TZID:UTC
BEGIN:STANDARD
TZOFFSETFROM:+0000
TZOFFSETTO:+0000
TZNAME:UTC
DTSTART:20210101T000000
END:STANDARD
END:VTIMEZONE
BEGIN:VEVENT
DTSTART;TZID=UTC:20210120T110000
DTEND;TZID=UTC:20210120T200000
DTSTAMP:20260425T010004
CREATED:20210114T104440Z
LAST-MODIFIED:20210114T104440Z
UID:11685-1611140400-1611172800@www.shfayimcenter.co.il
SUMMARY:חדש! הזמנת בשרים במעשנת של ניסן!
DESCRIPTION:חדש במעשנת של ניסן! הזמנת בשרים  עד הבית לסוף השבוע-\nניתן להזמין עד יום רבעי ליום שישי\n\n\nחדש במעשנת של ניסן שפיים! הזמנות בשרים לסוף השבוע. מינימיום 200 ש”ח להזמנה\, ניתן להזמין עד יום רבעי\n  \n\n\nעוד סיבה טובה (או גדולה) להגיע לחוצות שפיים. \n*ימים ושעות הפעילויות עשויות להתעדכן מעת לעת. יש להתעדכן מול המתחם
URL:https://www.shfayimcenter.co.il/event/maashenet-20-1-21/
ATTACH;FMTTYPE=image/jpeg:https://www.shfayimcenter.co.il/wp-content/uploads/2020/11/125957059_5403825952991484_2605012724622260123_n.jpg
END:VEVENT
END:VCALENDAR