BEGIN:VCALENDAR
VERSION:2.0
PRODID:-//חוצות שפיים - ECPv6.3.5//NONSGML v1.0//EN
CALSCALE:GREGORIAN
METHOD:PUBLISH
X-ORIGINAL-URL:https://www.shfayimcenter.co.il
X-WR-CALDESC:Events for חוצות שפיים
REFRESH-INTERVAL;VALUE=DURATION:PT1H
X-Robots-Tag:noindex
X-PUBLISHED-TTL:PT1H
BEGIN:VTIMEZONE
TZID:UTC
BEGIN:STANDARD
TZOFFSETFROM:+0000
TZOFFSETTO:+0000
TZNAME:UTC
DTSTART:20200101T000000
END:STANDARD
END:VTIMEZONE
BEGIN:VEVENT
DTSTART;TZID=UTC:20201213T110000
DTEND;TZID=UTC:20201213T200000
DTSTAMP:20260425T024053
CREATED:20201202T182613Z
LAST-MODIFIED:20201202T182613Z
UID:11641-1607857200-1607889600@www.shfayimcenter.co.il
SUMMARY:המעשנת של ניסן ימי א-ו במתחם
DESCRIPTION:לקוחות יקרים\, שימו לב❤️ חדש במתחם- המעשנת של ניסן\nבכל ימות השבוע!\n\nקרנבל של בשרים  \n\n\n\nאסאדו מפורק\, המבורגר\, פרגיות\, צ׳וריסו ועוד \nדוכן פתוח במתכונת לקחת בלבד \nא-ה החל מ11\nשישי11:00-15:00 \n\n\nעוד סיבה טובה (או גדולה) להגיע לחוצות שפיים. \n*ימים ושעות הפעילויות עשויות להתעדכן מעת לעת. יש להתעדכן מול המתחם
URL:https://www.shfayimcenter.co.il/event/maashenet-dec13-20/
ATTACH;FMTTYPE=image/jpeg:https://www.shfayimcenter.co.il/wp-content/uploads/2020/11/125957059_5403825952991484_2605012724622260123_n.jpg
END:VEVENT
END:VCALENDAR