BEGIN:VCALENDAR
VERSION:2.0
PRODID:-//חוצות שפיים - ECPv4.6.18//NONSGML v1.0//EN
CALSCALE:GREGORIAN
METHOD:PUBLISH
X-WR-CALNAME:חוצות שפיים
X-ORIGINAL-URL:https://www.shfayimcenter.co.il
X-WR-CALDESC:Events for חוצות שפיים
BEGIN:VEVENT
DTSTART;TZID=UTC+0:20200815T100000
DTEND;TZID=UTC+0:20200815T200000
DTSTAMP:20211016T230215
CREATED:20200813T080954Z
LAST-MODIFIED:20200813T081655Z
UID:11448-1597485600-1597521600@www.shfayimcenter.co.il
SUMMARY:שפיים מרקט - שבת 15.8
DESCRIPTION:מחפשים בילוי משפחתי לסוף השבוע? עוד סיבה טובה להגיע לחוצות שפיים! \nבארבע מילים: אוכל\, קניות\, בילוי וכיף! \nשפיים מרקט – יריד הסופ”ש הגדול של חוצות שפיים מתקיים כבר למעלה מעשר שנים\, בינות לכל החנויות\, הרשתות\, המסעדות והמותגים.\nוכעת בקונספט חדש : היריד יפעל במתכונת שישי ושבת במקום בשבת בלבד! ביריד דוכני מזון לצד דוכני אמנות ועבודת יד : תכשיטים בעבודת יד\,  תמונות קנבס\, שלטי עץ\, קקטוסים ובמתחם האוכל : אוכל ארגנטינאי\, דונאטס\, תפוח אדמה מוקרם\, כנאפה ובקלאווה\, פיצוחים\, פירות בכוסות \, תירס חם ועוד ועוד ! \nבנוסף\, בשתי השבתות האחרונות בכל חודש\, בין 10:00 ל-13:00\, נערך יריד אימוץ כלבים\, בשיתוף עמותת הרצליה אוהבת חיות וחנות “זו ארץ ZOO”. קונים\, מבלים וחוזרים הביתה עם חברים חדשים! \nשפיים מרקט שעות פתיחה :\nשבת 10:00-20:00\nברחבת המתחם \nושפע חניה וללא עלות\, כבר אמרנו? \nעוד סיבה טובה (או גדולה) להגיע לחוצות שפיים. \n*ימים ושעות הפעילויות עשויות להתעדכן מעת לעת. יש להתעדכן מול המתחם \n
URL:https://www.shfayimcenter.co.il/event/shefayimarket15-8-20/
ATTACH;FMTTYPE=image/jpeg:https://www.shfayimcenter.co.il/wp-content/uploads/2020/06/באנר-לאתר-יריד-האוכל.jpg
END:VEVENT
END:VCALENDAR