BEGIN:VCALENDAR
VERSION:2.0
PRODID:-//חוצות שפיים - ECPv6.3.5//NONSGML v1.0//EN
CALSCALE:GREGORIAN
METHOD:PUBLISH
X-WR-CALNAME:חוצות שפיים
X-ORIGINAL-URL:https://www.shfayimcenter.co.il
X-WR-CALDESC:Events for חוצות שפיים
REFRESH-INTERVAL;VALUE=DURATION:PT1H
X-Robots-Tag:noindex
X-PUBLISHED-TTL:PT1H
BEGIN:VTIMEZONE
TZID:UTC
BEGIN:STANDARD
TZOFFSETFROM:+0000
TZOFFSETTO:+0000
TZNAME:UTC
DTSTART:20200101T000000
END:STANDARD
END:VTIMEZONE
BEGIN:VEVENT
DTSTART;TZID=UTC:20201023T090000
DTEND;TZID=UTC:20201023T160000
DTSTAMP:20260424T203613
CREATED:20201007T085440Z
LAST-MODIFIED:20201007T085440Z
UID:11579-1603443600-1603468800@www.shfayimcenter.co.il
SUMMARY:פתוח עד 16:00
DESCRIPTION:לקוחות יקרים\, שימו לב❤️\nהמתחם פעיל בכל ימות השבוע כולל שבתות בהתאם להנחיות התו הסגול !\nשעות פתיחה :  א-ה- 09:00-17:00\nשישי 09:00-16:00\nשבת – 10:00-17:00 \nחנויות חיוניות פתוחות : משק פיין\, סופר פארם\, הום סנטר\, אופיס דיפו\nמסעדות – מתכונת משלוחים בלבד : בוא נאכל\, פיצה פיפו\, גולדה שפיים\nלמען שמירה על בריאותכם ברחבי המתחם עמדות לרחיצת ידיים \nוכמובן …שפע חניה וללא עלות\, כבר אמרנו? \nעוד סיבה טובה (או גדולה) להגיע לחוצות שפיים. \n*ימים ושעות הפעילויות עשויות להתעדכן מעת לעת. יש להתעדכן מול המתחם
URL:https://www.shfayimcenter.co.il/event/23-10-20/
ATTACH;FMTTYPE=image/jpeg:https://www.shfayimcenter.co.il/wp-content/uploads/2020/07/פוסט-פייסבוק-התו-הסגול.jpg
END:VEVENT
END:VCALENDAR