BEGIN:VCALENDAR
VERSION:2.0
PRODID:-//חוצות שפיים - ECPv4.6.18//NONSGML v1.0//EN
CALSCALE:GREGORIAN
METHOD:PUBLISH
X-WR-CALNAME:חוצות שפיים
X-ORIGINAL-URL:https://www.shfayimcenter.co.il
X-WR-CALDESC:Events for חוצות שפיים
BEGIN:VEVENT
DTSTART;TZID=UTC+0:20210319T093000
DTEND;TZID=UTC+0:20210319T150000
DTSTAMP:20210715T155446
CREATED:20210223T194718Z
LAST-MODIFIED:20210223T194718Z
UID:11731-1616146200-1616166000@www.shfayimcenter.co.il
SUMMARY:יריד אוכל מוכן מבית NFK - ימי שישי במשק פיין
DESCRIPTION:כל יום שישי במשק פיין שפיים : יריד אוכל מוכן לשבת מבית נופר פדלון – NFK \nתפריט חלומי הכולל סלטים\, מטבלים\, דגים\, בשרים\, תוספות \nאופציות טבעוניות \nמאפייה וקינוחים \nועוד המון הפתעות! \nימי שישי במתחם המקורה של משק פיין החל מ09:30 בבוקר ועד 15:00 \n*שימו לב\nהכניסה למתחם בעטיית מסיכה בלבד\nהגבלת קונים בהתאם להנחיות התו הסגול\nלמען שמירה על בריואכם עמדות לרחיצת ידיים פזורות ברחבי המתחם \nשפע חניה וללא עלות\, כבר אמרנו? \nעוד סיבה טובה (או גדולה) להגיע לחוצות שפיים. \n*ימים ושעות הפעילויות עשויות להתעדכן מעת לעת. יש להתעדכן מול המתחם \n
URL:https://www.shfayimcenter.co.il/event/19-3-21/
ATTACH;FMTTYPE=image/jpeg:https://www.shfayimcenter.co.il/wp-content/uploads/2020/12/533_800_באנר-לאתר-יריד-האוכל-המוכן-בשישי2-1.jpg
END:VEVENT
END:VCALENDAR